Package: ITALICS Version: 2.66.0 Command: /Library/Frameworks/R.framework/Resources/bin/R CMD build --keep-empty-dirs --no-resave-data ITALICS StartedAt: 2025-03-31 19:37:09 -0400 (Mon, 31 Mar 2025) EndedAt: 2025-03-31 19:38:53 -0400 (Mon, 31 Mar 2025) EllapsedTime: 104.1 seconds RetCode: 0 Status: OK PackageFile: ITALICS_2.66.0.tar.gz PackageFileSize: 615.6 KiB