Package: ISoLDE Version: 1.34.0 Command: /Library/Frameworks/R.framework/Resources/bin/R CMD build --keep-empty-dirs --no-resave-data ISoLDE StartedAt: 2024-11-08 17:51:10 -0500 (Fri, 08 Nov 2024) EndedAt: 2024-11-08 17:51:11 -0500 (Fri, 08 Nov 2024) EllapsedTime: 1.0 seconds RetCode: 0 Status: OK PackageFile: ISoLDE_1.34.0.tar.gz PackageFileSize: 1.228 MiB