Package: ISoLDE Version: 1.34.0 Command: /Library/Frameworks/R.framework/Resources/bin/R CMD INSTALL ISoLDE StartedAt: 2025-03-31 15:04:16 -0400 (Mon, 31 Mar 2025) EndedAt: 2025-03-31 15:04:20 -0400 (Mon, 31 Mar 2025) EllapsedTime: 4.1 seconds RetCode: 0 Status: OK