Package: ISLET Version: 1.8.0 Command: /home/biocbuild/R/R/bin/R CMD build --keep-empty-dirs --no-resave-data ISLET StartedAt: 2025-01-28 01:08:19 -0000 (Tue, 28 Jan 2025) EndedAt: 2025-01-28 01:11:46 -0000 (Tue, 28 Jan 2025) EllapsedTime: 207.1 seconds RetCode: 0 Status: OK PackageFile: ISLET_1.8.0.tar.gz PackageFileSize: 2.209 MiB