Package: ISAnalytics Version: 1.16.1 Command: /home/biocbuild/R/R/bin/R CMD build --keep-empty-dirs --no-resave-data ISAnalytics StartedAt: 2025-01-28 01:06:07 -0000 (Tue, 28 Jan 2025) EndedAt: 2025-01-28 01:08:59 -0000 (Tue, 28 Jan 2025) EllapsedTime: 172.1 seconds RetCode: 0 Status: OK PackageFile: ISAnalytics_1.16.1.tar.gz PackageFileSize: 4.125 MiB