Package: ISAnalytics Version: 1.16.1 Command: chmod a+r ISAnalytics -R && F:\biocbuild\bbs-3.20-bioc\R\bin\R.exe CMD build --keep-empty-dirs --no-resave-data ISAnalytics StartedAt: 2025-02-03 19:55:46 -0500 (Mon, 03 Feb 2025) EndedAt: 2025-02-03 20:01:27 -0500 (Mon, 03 Feb 2025) EllapsedTime: 340.9 seconds RetCode: 0 Status: OK PackageFile: ISAnalytics_1.16.1.tar.gz PackageFileSize: 3.983 MiB