Package: ISAnalytics Version: 1.16.1 Command: /home/biocbuild/bbs-3.20-bioc/R/bin/R CMD build --keep-empty-dirs --no-resave-data --md5 ISAnalytics StartedAt: 2025-01-27 18:40:51 -0500 (Mon, 27 Jan 2025) EndedAt: 2025-01-27 18:42:59 -0500 (Mon, 27 Jan 2025) EllapsedTime: 128.2 seconds RetCode: 0 Status: OK PackageFile: ISAnalytics_1.16.1.tar.gz PackageFileSize: 4.383 MiB