Package: ISAnalytics Version: 1.16.1 Command: /Library/Frameworks/R.framework/Resources/bin/R CMD check --install=check:ISAnalytics.install-out.txt --library=/Library/Frameworks/R.framework/Resources/library --no-vignettes --timings ISAnalytics_1.16.1.tar.gz StartedAt: 2025-02-04 05:17:54 -0500 (Tue, 04 Feb 2025) EndedAt: 2025-02-04 05:34:36 -0500 (Tue, 04 Feb 2025) EllapsedTime: 1002.3 seconds RetCode: 0 Status: OK CheckDir: ISAnalytics.Rcheck Warnings: 0