Package: ISAnalytics Version: 1.16.1 Command: /Library/Frameworks/R.framework/Resources/bin/R CMD build --keep-empty-dirs --no-resave-data ISAnalytics StartedAt: 2025-01-27 19:54:29 -0500 (Mon, 27 Jan 2025) EndedAt: 2025-01-27 20:00:08 -0500 (Mon, 27 Jan 2025) EllapsedTime: 338.8 seconds RetCode: 0 Status: OK PackageFile: ISAnalytics_1.16.1.tar.gz PackageFileSize: 4.444 MiB