Package: ISAnalytics Version: 1.16.1 Command: /Library/Frameworks/R.framework/Resources/bin/R CMD check --install=check:ISAnalytics.install-out.txt --library=/Library/Frameworks/R.framework/Resources/library --no-vignettes --timings ISAnalytics_1.16.1.tar.gz StartedAt: 2025-01-28 22:43:29 -0500 (Tue, 28 Jan 2025) EndedAt: 2025-01-28 22:51:20 -0500 (Tue, 28 Jan 2025) EllapsedTime: 471.1 seconds RetCode: 0 Status: OK CheckDir: ISAnalytics.Rcheck Warnings: 0