Package: IRanges Version: 2.40.1 Command: /home/biocbuild/R/R/bin/R CMD check --install=check:IRanges.install-out.txt --library=/home/biocbuild/R/R/site-library --no-vignettes --timings IRanges_2.40.1.tar.gz StartedAt: 2025-01-28 08:14:36 -0000 (Tue, 28 Jan 2025) EndedAt: 2025-01-28 08:18:19 -0000 (Tue, 28 Jan 2025) EllapsedTime: 223.2 seconds RetCode: 0 Status: WARNINGS CheckDir: IRanges.Rcheck Warnings: 4