Package: IRanges Version: 2.40.1 Command: chmod a+r IRanges -R && F:\biocbuild\bbs-3.20-bioc\R\bin\R.exe CMD build --keep-empty-dirs --no-resave-data IRanges StartedAt: 2025-01-27 19:41:34 -0500 (Mon, 27 Jan 2025) EndedAt: 2025-01-27 19:44:15 -0500 (Mon, 27 Jan 2025) EllapsedTime: 160.5 seconds RetCode: 0 Status: OK PackageFile: IRanges_2.40.1.tar.gz PackageFileSize: 470.6 KiB