Package: IRanges Version: 2.40.0 Command: /Library/Frameworks/R.framework/Resources/bin/R CMD check --install=check:IRanges.install-out.txt --library=/Library/Frameworks/R.framework/Resources/library --no-vignettes --timings IRanges_2.40.0.tar.gz StartedAt: 2024-11-19 23:16:25 -0500 (Tue, 19 Nov 2024) EndedAt: 2024-11-19 23:22:41 -0500 (Tue, 19 Nov 2024) EllapsedTime: 375.9 seconds RetCode: 0 Status: WARNINGS CheckDir: IRanges.Rcheck Warnings: 5