Package: IRanges Version: 2.40.1 Command: /Library/Frameworks/R.framework/Resources/bin/R CMD build --keep-empty-dirs --no-resave-data IRanges StartedAt: 2025-02-04 02:00:12 -0500 (Tue, 04 Feb 2025) EndedAt: 2025-02-04 02:01:47 -0500 (Tue, 04 Feb 2025) EllapsedTime: 94.7 seconds RetCode: 0 Status: OK PackageFile: IRanges_2.40.1.tar.gz PackageFileSize: 469.8 KiB