Package: IPO Version: 1.32.0 Command: F:\biocbuild\bbs-3.20-bioc\R\bin\R.exe CMD check --no-multiarch --install=check:IPO.install-out.txt --library=F:\biocbuild\bbs-3.20-bioc\R\library --no-vignettes --timings IPO_1.32.0.tar.gz StartedAt: 2025-04-01 02:43:04 -0400 (Tue, 01 Apr 2025) EndedAt: 2025-04-01 03:13:02 -0400 (Tue, 01 Apr 2025) EllapsedTime: 1798.4 seconds RetCode: 0 Status: OK CheckDir: IPO.Rcheck Warnings: 0