Package: IPO Version: 1.32.0 Command: /Library/Frameworks/R.framework/Resources/bin/R CMD build --keep-empty-dirs --no-resave-data IPO StartedAt: 2025-03-31 19:34:03 -0400 (Mon, 31 Mar 2025) EndedAt: 2025-03-31 19:36:14 -0400 (Mon, 31 Mar 2025) EllapsedTime: 130.5 seconds RetCode: 1 Status: ERROR PackageFile: None PackageFileSize: NA