Package: INSPEcT Version: 1.36.0 Command: /home/biocbuild/bbs-3.20-bioc/R/bin/R CMD INSTALL INSPEcT StartedAt: 2025-01-30 15:31:53 -0500 (Thu, 30 Jan 2025) EndedAt: 2025-01-30 15:32:58 -0500 (Thu, 30 Jan 2025) EllapsedTime: 64.8 seconds RetCode: 0 Status: OK