############################################################################## ############################################################################## ### ### Running command: ### ### /home/biocbuild/bbs-3.20-bioc/R/bin/R CMD check --install=check:INSPEcT.install-out.txt --library=/home/biocbuild/bbs-3.20-bioc/R/site-library --timings INSPEcT_1.36.0.tar.gz ### ############################################################################## ############################################################################## * using log directory ‘/home/biocbuild/bbs-3.20-bioc/meat/INSPEcT.Rcheck’ * using R version 4.4.2 (2024-10-31) * using platform: x86_64-pc-linux-gnu * R was compiled by gcc (Ubuntu 13.2.0-23ubuntu4) 13.2.0 GNU Fortran (Ubuntu 13.2.0-23ubuntu4) 13.2.0 * running under: Ubuntu 24.04.1 LTS * using session charset: UTF-8 * checking for file ‘INSPEcT/DESCRIPTION’ ... OK * checking extension type ... Package * this is package ‘INSPEcT’ version ‘1.36.0’ * checking package namespace information ... OK * checking package dependencies ... OK * checking if this is a source package ... OK * checking if there is a namespace ... OK * checking for hidden files and directories ... OK * checking for portable file names ... OK * checking for sufficient/correct file permissions ... OK * checking whether package ‘INSPEcT’ can be installed ... OK * checking installed package size ... NOTE installed size is 7.1Mb sub-directories of 1Mb or more: R 1.8Mb data 2.8Mb * checking package directory ... OK * checking ‘build’ directory ... OK * checking DESCRIPTION meta-information ... OK * checking top-level files ... OK * checking for left-over files ... OK * checking index information ... OK * checking package subdirectories ... OK * checking code files for non-ASCII characters ... OK * checking R files for syntax errors ... OK * checking whether the package can be loaded ... OK * checking whether the package can be loaded with stated dependencies ... OK * checking whether the package can be unloaded cleanly ... OK * checking whether the namespace can be loaded with stated dependencies ... OK * checking whether the namespace can be unloaded cleanly ... OK * checking loading without being on the library search path ... OK * checking dependencies in R code ... OK * checking S3 generic/method consistency ... OK * checking replacement functions ... OK * checking foreign function calls ... OK * checking R code for possible problems ... NOTE output_pars: no visible global function definition for ‘plot.new’ plotSingleRNADynamic: no visible global function definition for ‘lines’ Undefined global functions or variables: lines plot.new Consider adding importFrom("graphics", "lines", "plot.new") to your NAMESPACE file. * checking Rd files ... OK * checking Rd metadata ... OK * checking Rd cross-references ... OK * checking for missing documentation entries ... OK * checking for code/documentation mismatches ... OK * checking Rd \usage sections ... OK * checking Rd contents ... OK * checking for unstated dependencies in examples ... OK * checking contents of ‘data’ directory ... OK * checking data for non-ASCII characters ... OK * checking data for ASCII and uncompressed saves ... OK * checking files in ‘vignettes’ ... OK * checking examples ... OK Examples with CPU (user + system) or elapsed time > 5s user system elapsed makeSimDataset 72.568 0.491 73.060 modelRates 36.488 0.113 36.602 quantifyExpressionsFromBAMs 32.505 0.215 33.062 INSPEcT_diffsteady-class 27.280 0.482 27.762 rocCurve 25.632 0.129 25.763 rocThresholds 25.299 0.112 25.414 makeSimModel 24.646 0.162 24.808 plotMA 22.940 0.014 22.955 compareSteady 22.061 0.082 22.144 quantifyExpressionsFromTrCounts 16.081 0.004 16.085 newINSPEcT 13.644 0.033 13.677 processingDelay 13.192 0.010 13.201 makeOscillatorySimModel 6.622 0.201 6.824 inspectFromPCR 6.367 0.021 6.389 compareSteadyNoNascent 5.171 0.055 5.226 * checking for unstated dependencies in vignettes ... OK * checking package vignettes ... OK * checking re-building of vignette outputs ... OK * checking PDF version of manual ... OK * DONE Status: 2 NOTEs See ‘/home/biocbuild/bbs-3.20-bioc/meat/INSPEcT.Rcheck/00check.log’ for details.