Package: INSPEcT Version: 1.36.0 Command: /home/biocbuild/R/R/bin/R CMD INSTALL INSPEcT StartedAt: 2024-11-19 21:00:34 -0000 (Tue, 19 Nov 2024) EndedAt: 2024-11-19 21:02:05 -0000 (Tue, 19 Nov 2024) EllapsedTime: 91.7 seconds RetCode: 0 Status: OK