Package: INSPEcT Version: 1.36.0 Command: rm -rf INSPEcT.buildbin-libdir && mkdir INSPEcT.buildbin-libdir && /Users/biocbuild/BBS/utils/build-universal.sh INSPEcT_1.36.0.tar.gz /Library/Frameworks/R.framework/Resources/bin/R INSPEcT.buildbin-libdir StartedAt: 2025-04-02 14:48:46 -0400 (Wed, 02 Apr 2025) EndedAt: 2025-04-02 14:50:14 -0400 (Wed, 02 Apr 2025) EllapsedTime: 87.8 seconds RetCode: 0 Status: OK PackageFile: INSPEcT_1.36.0.tgz PackageFileSize: 59.52 MiB