Package: INDEED Version: 2.20.0 Command: chmod a+r INDEED -R && F:\biocbuild\bbs-3.20-bioc\R\bin\R.exe CMD build --keep-empty-dirs --no-resave-data INDEED StartedAt: 2025-03-31 19:41:07 -0400 (Mon, 31 Mar 2025) EndedAt: 2025-03-31 19:41:26 -0400 (Mon, 31 Mar 2025) EllapsedTime: 18.9 seconds RetCode: 0 Status: OK PackageFile: INDEED_2.20.0.tar.gz PackageFileSize: 1.857 MiB