Package: INDEED Version: 2.20.0 Command: rm -rf INDEED.buildbin-libdir && mkdir INDEED.buildbin-libdir && F:\biocbuild\bbs-3.20-bioc\R\bin\R.exe CMD INSTALL --build --library=INDEED.buildbin-libdir INDEED_2.20.0.tar.gz StartedAt: 2025-01-28 08:22:27 -0500 (Tue, 28 Jan 2025) EndedAt: 2025-01-28 08:22:48 -0500 (Tue, 28 Jan 2025) EllapsedTime: 20.9 seconds RetCode: 0 Status: OK PackageFile: INDEED_2.20.0.zip PackageFileSize: 783.6 KiB