Package: INDEED Version: 2.20.0 Command: /home/biocbuild/bbs-3.20-bioc/R/bin/R CMD INSTALL INDEED StartedAt: 2025-01-27 16:32:37 -0500 (Mon, 27 Jan 2025) EndedAt: 2025-01-27 16:32:43 -0500 (Mon, 27 Jan 2025) EllapsedTime: 5.7 seconds RetCode: 0 Status: OK