Package: INDEED Version: 2.20.0 Command: /Library/Frameworks/R.framework/Resources/bin/R CMD INSTALL INDEED StartedAt: 2025-01-27 16:11:37 -0500 (Mon, 27 Jan 2025) EndedAt: 2025-01-27 16:11:52 -0500 (Mon, 27 Jan 2025) EllapsedTime: 15.3 seconds RetCode: 0 Status: OK