Package: INDEED Version: 2.20.0 Command: /Library/Frameworks/R.framework/Resources/bin/R CMD check --install=check:INDEED.install-out.txt --library=/Library/Frameworks/R.framework/Resources/library --no-vignettes --timings INDEED_2.20.0.tar.gz StartedAt: 2025-02-04 05:11:14 -0500 (Tue, 04 Feb 2025) EndedAt: 2025-02-04 05:13:21 -0500 (Tue, 04 Feb 2025) EllapsedTime: 126.4 seconds RetCode: 0 Status: OK CheckDir: INDEED.Rcheck Warnings: 0