Package: INDEED Version: 2.20.0 Command: /Library/Frameworks/R.framework/Resources/bin/R CMD build --keep-empty-dirs --no-resave-data INDEED StartedAt: 2025-01-27 19:49:41 -0500 (Mon, 27 Jan 2025) EndedAt: 2025-01-27 19:50:47 -0500 (Mon, 27 Jan 2025) EllapsedTime: 65.8 seconds RetCode: 0 Status: OK PackageFile: INDEED_2.20.0.tar.gz PackageFileSize: 1.857 MiB