Package: INDEED Version: 2.20.0 Command: /Library/Frameworks/R.framework/Resources/bin/R CMD check --install=check:INDEED.install-out.txt --library=/Library/Frameworks/R.framework/Resources/library --no-vignettes --timings INDEED_2.20.0.tar.gz StartedAt: 2025-01-28 22:25:10 -0500 (Tue, 28 Jan 2025) EndedAt: 2025-01-28 22:26:14 -0500 (Tue, 28 Jan 2025) EllapsedTime: 64.5 seconds RetCode: 0 Status: OK CheckDir: INDEED.Rcheck Warnings: 0