Package: IMPCdata Version: 1.42.0 Command: /home/biocbuild/R/R/bin/R CMD build --keep-empty-dirs --no-resave-data IMPCdata StartedAt: 2025-02-04 00:24:01 -0000 (Tue, 04 Feb 2025) EndedAt: 2025-02-04 00:25:44 -0000 (Tue, 04 Feb 2025) EllapsedTime: 103.0 seconds RetCode: 0 Status: OK PackageFile: IMPCdata_1.42.0.tar.gz PackageFileSize: 104.4 KiB