Package: IMPCdata Version: 1.42.0 Command: rm -rf IMPCdata.buildbin-libdir && mkdir IMPCdata.buildbin-libdir && /Users/biocbuild/BBS/utils/build-universal.sh IMPCdata_1.42.0.tar.gz /Library/Frameworks/R.framework/Resources/bin/R IMPCdata.buildbin-libdir StartedAt: 2024-11-09 16:54:31 -0500 (Sat, 09 Nov 2024) EndedAt: 2024-11-09 16:54:32 -0500 (Sat, 09 Nov 2024) EllapsedTime: 1.0 seconds RetCode: 0 Status: OK PackageFile: IMPCdata_1.42.0.tgz PackageFileSize: 158.8 KiB