Package: IMPCdata Version: 1.42.0 Command: /Library/Frameworks/R.framework/Resources/bin/R CMD build --keep-empty-dirs --no-resave-data IMPCdata StartedAt: 2025-01-28 01:46:40 -0500 (Tue, 28 Jan 2025) EndedAt: 2025-01-28 01:47:23 -0500 (Tue, 28 Jan 2025) EllapsedTime: 43.0 seconds RetCode: 0 Status: OK PackageFile: IMPCdata_1.42.0.tar.gz PackageFileSize: 107.3 KiB