Package: IMMAN Version: 1.26.0 Command: chmod a+r IMMAN -R && F:\biocbuild\bbs-3.20-bioc\R\bin\R.exe CMD build --keep-empty-dirs --no-resave-data IMMAN StartedAt: 2025-03-31 19:38:06 -0400 (Mon, 31 Mar 2025) EndedAt: 2025-03-31 19:41:03 -0400 (Mon, 31 Mar 2025) EllapsedTime: 176.3 seconds RetCode: 0 Status: OK PackageFile: IMMAN_1.26.0.tar.gz PackageFileSize: 26.45 KiB