Package: IMMAN Version: 1.25.0 Command: rm -rf IMMAN.buildbin-libdir && mkdir IMMAN.buildbin-libdir && F:\biocbuild\bbs-3.20-bioc\R\bin\R.exe CMD INSTALL --build --library=IMMAN.buildbin-libdir IMMAN_1.25.0.tar.gz StartedAt: 2024-06-10 13:56:28 -0400 (Mon, 10 Jun 2024) EndedAt: 2024-06-10 13:57:39 -0400 (Mon, 10 Jun 2024) EllapsedTime: 71.1 seconds RetCode: 0 Status: OK PackageFile: IMMAN_1.25.0.zip PackageFileSize: 64.61 KiB