Package: IMMAN Version: 1.26.0 Command: /Library/Frameworks/R.framework/Resources/bin/R CMD INSTALL IMMAN StartedAt: 2025-01-27 15:29:52 -0500 (Mon, 27 Jan 2025) EndedAt: 2025-01-27 15:30:34 -0500 (Mon, 27 Jan 2025) EllapsedTime: 41.8 seconds RetCode: 0 Status: OK