Package: IMMAN Version: 1.26.0 Command: /Library/Frameworks/R.framework/Resources/bin/R CMD build --keep-empty-dirs --no-resave-data IMMAN StartedAt: 2025-02-03 19:43:20 -0500 (Mon, 03 Feb 2025) EndedAt: 2025-02-03 19:46:39 -0500 (Mon, 03 Feb 2025) EllapsedTime: 198.5 seconds RetCode: 0 Status: OK PackageFile: IMMAN_1.26.0.tar.gz PackageFileSize: 45.04 KiB