Package: IMMAN Version: 1.26.0 Command: /Library/Frameworks/R.framework/Resources/bin/R CMD build --keep-empty-dirs --no-resave-data IMMAN StartedAt: 2025-04-01 01:32:48 -0400 (Tue, 01 Apr 2025) EndedAt: 2025-04-01 01:34:15 -0400 (Tue, 01 Apr 2025) EllapsedTime: 87.2 seconds RetCode: 0 Status: OK PackageFile: IMMAN_1.26.0.tar.gz PackageFileSize: 45.03 KiB