Package: IMMAN Version: 1.26.0 Command: rm -rf IMMAN.buildbin-libdir && mkdir IMMAN.buildbin-libdir && /Users/biocbuild/BBS/utils/build-universal.sh IMMAN_1.26.0.tar.gz /Library/Frameworks/R.framework/Resources/bin/R IMMAN.buildbin-libdir StartedAt: 2025-01-29 15:04:12 -0500 (Wed, 29 Jan 2025) EndedAt: 2025-01-29 15:04:29 -0500 (Wed, 29 Jan 2025) EllapsedTime: 16.9 seconds RetCode: 0 Status: OK PackageFile: IMMAN_1.26.0.tgz PackageFileSize: 79.6 KiB