Package: ILoReg Version: 1.16.0 Command: rm -rf ILoReg.buildbin-libdir && mkdir ILoReg.buildbin-libdir && F:\biocbuild\bbs-3.20-bioc\R\bin\R.exe CMD INSTALL --build --library=ILoReg.buildbin-libdir ILoReg_1.16.0.tar.gz StartedAt: 2025-04-01 08:25:24 -0400 (Tue, 01 Apr 2025) EndedAt: 2025-04-01 08:26:31 -0400 (Tue, 01 Apr 2025) EllapsedTime: 66.5 seconds RetCode: 0 Status: OK PackageFile: ILoReg_1.16.0.zip PackageFileSize: 2.11 MiB