Package: ILoReg Version: 1.16.0 Command: /home/biocbuild/bbs-3.20-bioc/R/bin/R CMD build --keep-empty-dirs --no-resave-data --md5 ILoReg StartedAt: 2025-03-31 17:41:06 -0400 (Mon, 31 Mar 2025) EndedAt: 2025-03-31 17:43:20 -0400 (Mon, 31 Mar 2025) EllapsedTime: 134.2 seconds RetCode: 0 Status: OK PackageFile: ILoReg_1.16.0.tar.gz PackageFileSize: 2.669 MiB