Package: IHW Version: 1.34.0 Command: /Library/Frameworks/R.framework/Resources/bin/R CMD INSTALL IHW StartedAt: 2025-02-10 15:27:32 -0500 (Mon, 10 Feb 2025) EndedAt: 2025-02-10 15:27:41 -0500 (Mon, 10 Feb 2025) EllapsedTime: 9.6 seconds RetCode: 0 Status: OK