Package: IHW Version: 1.34.0 Command: /Library/Frameworks/R.framework/Resources/bin/R CMD check --install=check:IHW.install-out.txt --library=/Library/Frameworks/R.framework/Resources/library --no-vignettes --timings IHW_1.34.0.tar.gz StartedAt: 2025-02-11 04:52:45 -0500 (Tue, 11 Feb 2025) EndedAt: 2025-02-11 04:54:28 -0500 (Tue, 11 Feb 2025) EllapsedTime: 102.7 seconds RetCode: 0 Status: OK CheckDir: IHW.Rcheck Warnings: 0