Package: IHW Version: 1.34.0 Command: /Library/Frameworks/R.framework/Resources/bin/R CMD build --keep-empty-dirs --no-resave-data IHW StartedAt: 2025-02-04 01:43:14 -0500 (Tue, 04 Feb 2025) EndedAt: 2025-02-04 01:46:30 -0500 (Tue, 04 Feb 2025) EllapsedTime: 196.1 seconds RetCode: 0 Status: OK PackageFile: IHW_1.34.0.tar.gz PackageFileSize: 4.666 MiB