Package: IFAA Version: 1.8.0 Command: /home/biocbuild/R/R/bin/R CMD check --install=check:IFAA.install-out.txt --library=/home/biocbuild/R/R/site-library --no-vignettes --timings IFAA_1.8.0.tar.gz StartedAt: 2025-01-28 08:07:04 -0000 (Tue, 28 Jan 2025) EndedAt: 2025-01-28 08:15:55 -0000 (Tue, 28 Jan 2025) EllapsedTime: 531.5 seconds RetCode: 0 Status: OK CheckDir: IFAA.Rcheck Warnings: 0