Package: HybridMTest Version: 1.50.0 Command: rm -rf HybridMTest.buildbin-libdir && mkdir HybridMTest.buildbin-libdir && /Users/biocbuild/BBS/utils/build-universal.sh HybridMTest_1.50.0.tar.gz /Library/Frameworks/R.framework/Resources/bin/R HybridMTest.buildbin-libdir StartedAt: 2025-04-01 12:03:47 -0400 (Tue, 01 Apr 2025) EndedAt: 2025-04-01 12:04:03 -0400 (Tue, 01 Apr 2025) EllapsedTime: 16.1 seconds RetCode: 0 Status: OK PackageFile: HybridMTest_1.50.0.tgz PackageFileSize: 235.4 KiB