Package: HybridExpress Version: 1.2.0 Command: /Library/Frameworks/R.framework/Resources/bin/R CMD INSTALL HybridExpress StartedAt: 2025-03-31 15:46:06 -0400 (Mon, 31 Mar 2025) EndedAt: 2025-03-31 15:46:58 -0400 (Mon, 31 Mar 2025) EllapsedTime: 52.0 seconds RetCode: 0 Status: OK