Package: HybridExpress Version: 1.2.0 Command: /Library/Frameworks/R.framework/Resources/bin/R CMD build --keep-empty-dirs --no-resave-data HybridExpress StartedAt: 2025-03-31 19:25:35 -0400 (Mon, 31 Mar 2025) EndedAt: 2025-03-31 19:28:12 -0400 (Mon, 31 Mar 2025) EllapsedTime: 156.9 seconds RetCode: 0 Status: OK PackageFile: HybridExpress_1.2.0.tar.gz PackageFileSize: 3.411 MiB