Package: HubPub Version: 1.14.1 Command: /home/biocbuild/bbs-3.20-bioc/R/bin/R CMD build --keep-empty-dirs --no-resave-data --md5 HubPub StartedAt: 2025-03-31 17:39:19 -0400 (Mon, 31 Mar 2025) EndedAt: 2025-03-31 17:39:54 -0400 (Mon, 31 Mar 2025) EllapsedTime: 35.1 seconds RetCode: 0 Status: OK PackageFile: HubPub_1.14.1.tar.gz PackageFileSize: 933.6 KiB