Package: HuBMAPR Version: 1.0.1 Command: /Library/Frameworks/R.framework/Resources/bin/R CMD check --install=check:HuBMAPR.install-out.txt --library=/Library/Frameworks/R.framework/Resources/library --no-vignettes --timings HuBMAPR_1.0.1.tar.gz StartedAt: 2024-11-09 04:39:35 -0500 (Sat, 09 Nov 2024) EndedAt: 2024-11-09 04:44:06 -0500 (Sat, 09 Nov 2024) EllapsedTime: 270.5 seconds RetCode: 0 Status: OK CheckDir: HuBMAPR.Rcheck Warnings: 0