Package: HuBMAPR Version: 1.0.8 Command: /Library/Frameworks/R.framework/Resources/bin/R CMD INSTALL HuBMAPR StartedAt: 2025-03-31 15:19:29 -0400 (Mon, 31 Mar 2025) EndedAt: 2025-03-31 15:19:33 -0400 (Mon, 31 Mar 2025) EllapsedTime: 4.3 seconds RetCode: 0 Status: OK