Package: HoloFoodR Version: 1.0.0 Command: /Library/Frameworks/R.framework/Resources/bin/R CMD build --keep-empty-dirs --no-resave-data HoloFoodR StartedAt: 2025-04-01 01:19:32 -0400 (Tue, 01 Apr 2025) EndedAt: 2025-04-01 01:21:15 -0400 (Tue, 01 Apr 2025) EllapsedTime: 102.9 seconds RetCode: 0 Status: OK PackageFile: HoloFoodR_1.0.0.tar.gz PackageFileSize: 2.966 MiB