############################################################################## ############################################################################## ### ### Running command: ### ### /home/biocbuild/R/R/bin/R CMD build --keep-empty-dirs --no-resave-data HilbertVisGUI ### ############################################################################## ############################################################################## * checking for file ‘HilbertVisGUI/DESCRIPTION’ ... OK * preparing ‘HilbertVisGUI’: * checking DESCRIPTION meta-information ... OK * cleaning src * installing the package to build vignettes ----------------------------------- ERROR: dependency ‘HilbertVis’ is not available for package ‘HilbertVisGUI’ * removing ‘/home/biocbuild/tmp/Rtmpa5SXMw/Rinst7c6cb10ea5f57/HilbertVisGUI’ ----------------------------------- ERROR: package installation failed